BEGIN:VCALENDAR
VERSION:2.0
PRODID:-//Werner-von-Siemens-Schule - ECPv6.15.20//NONSGML v1.0//EN
CALSCALE:GREGORIAN
METHOD:PUBLISH
X-ORIGINAL-URL:https://siemensschule-gransee.de
X-WR-CALDESC:Veranstaltungen für Werner-von-Siemens-Schule
REFRESH-INTERVAL;VALUE=DURATION:PT1H
X-Robots-Tag:noindex
X-PUBLISHED-TTL:PT1H
BEGIN:VTIMEZONE
TZID:Europe/Berlin
BEGIN:DAYLIGHT
TZOFFSETFROM:+0100
TZOFFSETTO:+0200
TZNAME:CEST
DTSTART:20230326T010000
END:DAYLIGHT
BEGIN:STANDARD
TZOFFSETFROM:+0200
TZOFFSETTO:+0100
TZNAME:CET
DTSTART:20231029T010000
END:STANDARD
BEGIN:DAYLIGHT
TZOFFSETFROM:+0100
TZOFFSETTO:+0200
TZNAME:CEST
DTSTART:20240331T010000
END:DAYLIGHT
BEGIN:STANDARD
TZOFFSETFROM:+0200
TZOFFSETTO:+0100
TZNAME:CET
DTSTART:20241027T010000
END:STANDARD
BEGIN:DAYLIGHT
TZOFFSETFROM:+0100
TZOFFSETTO:+0200
TZNAME:CEST
DTSTART:20250330T010000
END:DAYLIGHT
BEGIN:STANDARD
TZOFFSETFROM:+0200
TZOFFSETTO:+0100
TZNAME:CET
DTSTART:20251026T010000
END:STANDARD
BEGIN:DAYLIGHT
TZOFFSETFROM:+0100
TZOFFSETTO:+0200
TZNAME:CEST
DTSTART:20260329T010000
END:DAYLIGHT
BEGIN:STANDARD
TZOFFSETFROM:+0200
TZOFFSETTO:+0100
TZNAME:CET
DTSTART:20261025T010000
END:STANDARD
END:VTIMEZONE
BEGIN:VEVENT
DTSTART;TZID=Europe/Berlin:20241223T080000
DTEND;TZID=Europe/Berlin:20250101T180000
DTSTAMP:20260421T115836
CREATED:20241201T204141Z
LAST-MODIFIED:20241201T204141Z
UID:9102-1734940800-1735754400@siemensschule-gransee.de
SUMMARY:Weihnachtsferien
DESCRIPTION:
URL:https://siemensschule-gransee.de/termin/weihnachtsferien/
LOCATION:Werner-von-Siemens-Oberschule\, Straße des Friedens 4\, Gransee\, 16775
ORGANIZER;CN="Herr Brand%2C SL":MAILTO:jan.brand@lk.brandenburg.de
END:VEVENT
BEGIN:VEVENT
DTSTART;TZID=Europe/Berlin:20250103T093000
DTEND;TZID=Europe/Berlin:20250103T130000
DTSTAMP:20260421T115836
CREATED:20241201T204821Z
LAST-MODIFIED:20241201T204821Z
UID:9104-1735896600-1735909200@siemensschule-gransee.de
SUMMARY:Projekttag - Bewerbung schreiben 9B
DESCRIPTION:
URL:https://siemensschule-gransee.de/termin/projekttag-bewerbung-schreiben-9b/
LOCATION:Werner-von-Siemens-Oberschule\, Straße des Friedens 4\, Gransee\, 16775
ORGANIZER;CN="Frau Hother":MAILTO:christine.hother@lk.brandenburg.de
END:VEVENT
BEGIN:VEVENT
DTSTART;TZID=Europe/Berlin:20250106T093000
DTEND;TZID=Europe/Berlin:20250106T130000
DTSTAMP:20260421T115836
CREATED:20241201T202618Z
LAST-MODIFIED:20241216T055215Z
UID:9084-1736155800-1736168400@siemensschule-gransee.de
SUMMARY:Projekttag - Bewerbungen schreiben 9A
DESCRIPTION:
URL:https://siemensschule-gransee.de/termin/projekttag-bewerbungen-schreiben-9a/
LOCATION:Werner-von-Siemens-Oberschule\, Straße des Friedens 4\, Gransee\, 16775
ORGANIZER;CN="Frau Riesenberg":MAILTO:anke.riesenberg@lk.brandenburg.de
END:VEVENT
BEGIN:VEVENT
DTSTART;TZID=Europe/Berlin:20250108T080000
DTEND;TZID=Europe/Berlin:20250108T130000
DTSTAMP:20260421T115836
CREATED:20241203T115455Z
LAST-MODIFIED:20241203T115455Z
UID:9215-1736323200-1736341200@siemensschule-gransee.de
SUMMARY:Berufswahlpässe - Übergabe JGS7
DESCRIPTION:
URL:https://siemensschule-gransee.de/termin/berufswahlpaesse-uebergabe-jgs7/
LOCATION:Werner-von-Siemens-Oberschule\, Straße des Friedens 4\, Gransee\, 16775
ORGANIZER;CN="Frau Groszezyk":MAILTO:Neuruppin.151-Berufsberatung-vor-dem-Erwerbsleben@arbeitsagentur.de
END:VEVENT
BEGIN:VEVENT
DTSTART;TZID=Europe/Berlin:20250110T093000
DTEND;TZID=Europe/Berlin:20250110T130000
DTSTAMP:20260421T115836
CREATED:20241201T205359Z
LAST-MODIFIED:20241201T205359Z
UID:9108-1736501400-1736514000@siemensschule-gransee.de
SUMMARY:Projekttag - Berwerbungen schreiben 9C
DESCRIPTION:
URL:https://siemensschule-gransee.de/termin/projekttag-berwerbungen-schreiben-9c/
LOCATION:Werner-von-Siemens-Oberschule\, Straße des Friedens 4\, Gransee\, 16775
ORGANIZER;CN="Frau Mie%C3%9Fner":MAILTO:kathleen.miessner@lk.brandenburg.de
END:VEVENT
BEGIN:VEVENT
DTSTART;TZID=Europe/Berlin:20250121T133000
DTEND;TZID=Europe/Berlin:20250121T153000
DTSTAMP:20260421T115836
CREATED:20241201T205710Z
LAST-MODIFIED:20241201T205710Z
UID:9116-1737466200-1737473400@siemensschule-gransee.de
SUMMARY:Klassenkonferenz JGS 7/8
DESCRIPTION:
URL:https://siemensschule-gransee.de/termin/klassenkonferenz-jgs-7-8/
LOCATION:Werner-von-Siemens-Oberschule\, Straße des Friedens 4\, Gransee\, 16775
ORGANIZER;CN="Herr Brand%2C SL":MAILTO:jan.brand@lk.brandenburg.de
END:VEVENT
BEGIN:VEVENT
DTSTART;TZID=Europe/Berlin:20250122T133000
DTEND;TZID=Europe/Berlin:20250122T153000
DTSTAMP:20260421T115836
CREATED:20241201T205757Z
LAST-MODIFIED:20241201T205757Z
UID:9118-1737552600-1737559800@siemensschule-gransee.de
SUMMARY:Klassenkonferenz JGS 9/10
DESCRIPTION:
URL:https://siemensschule-gransee.de/termin/klassenkonferenz-jgs-9-10/
LOCATION:Werner-von-Siemens-Oberschule\, Straße des Friedens 4\, Gransee\, 16775
ORGANIZER;CN="Herr Brand%2C SL":MAILTO:jan.brand@lk.brandenburg.de
END:VEVENT
BEGIN:VEVENT
DTSTART;TZID=Europe/Berlin:20250127T133000
DTEND;TZID=Europe/Berlin:20250127T153000
DTSTAMP:20260421T115836
CREATED:20241201T205843Z
LAST-MODIFIED:20241201T205843Z
UID:9120-1737984600-1737991800@siemensschule-gransee.de
SUMMARY:5. Lehrerkonferenz
DESCRIPTION:
URL:https://siemensschule-gransee.de/termin/5-lehrerkonferenz/
LOCATION:Werner-von-Siemens-Oberschule\, Straße des Friedens 4\, Gransee\, 16775
ORGANIZER;CN="Herr Brand%2C SL":MAILTO:jan.brand@lk.brandenburg.de
END:VEVENT
BEGIN:VEVENT
DTSTART;TZID=Europe/Berlin:20250131T080000
DTEND;TZID=Europe/Berlin:20250131T100000
DTSTAMP:20260421T115836
CREATED:20241201T210048Z
LAST-MODIFIED:20241201T210109Z
UID:9122-1738310400-1738317600@siemensschule-gransee.de
SUMMARY:Halbjahreszeugnisse
DESCRIPTION:
URL:https://siemensschule-gransee.de/termin/zeugnisausgabe/
LOCATION:Werner-von-Siemens-Oberschule\, Straße des Friedens 4\, Gransee\, 16775
ORGANIZER;CN="Herr Brand%2C SL":MAILTO:jan.brand@lk.brandenburg.de
END:VEVENT
END:VCALENDAR