BEGIN:VCALENDAR
VERSION:2.0
PRODID:-//Werner-von-Siemens-Schule - ECPv6.15.20//NONSGML v1.0//EN
CALSCALE:GREGORIAN
METHOD:PUBLISH
X-ORIGINAL-URL:https://siemensschule-gransee.de
X-WR-CALDESC:Veranstaltungen für Werner-von-Siemens-Schule
REFRESH-INTERVAL;VALUE=DURATION:PT1H
X-Robots-Tag:noindex
X-PUBLISHED-TTL:PT1H
BEGIN:VTIMEZONE
TZID:Europe/Berlin
BEGIN:DAYLIGHT
TZOFFSETFROM:+0100
TZOFFSETTO:+0200
TZNAME:CEST
DTSTART:20240331T010000
END:DAYLIGHT
BEGIN:STANDARD
TZOFFSETFROM:+0200
TZOFFSETTO:+0100
TZNAME:CET
DTSTART:20241027T010000
END:STANDARD
BEGIN:DAYLIGHT
TZOFFSETFROM:+0100
TZOFFSETTO:+0200
TZNAME:CEST
DTSTART:20250330T010000
END:DAYLIGHT
BEGIN:STANDARD
TZOFFSETFROM:+0200
TZOFFSETTO:+0100
TZNAME:CET
DTSTART:20251026T010000
END:STANDARD
BEGIN:DAYLIGHT
TZOFFSETFROM:+0100
TZOFFSETTO:+0200
TZNAME:CEST
DTSTART:20260329T010000
END:DAYLIGHT
BEGIN:STANDARD
TZOFFSETFROM:+0200
TZOFFSETTO:+0100
TZNAME:CET
DTSTART:20261025T010000
END:STANDARD
END:VTIMEZONE
BEGIN:VEVENT
DTSTART;TZID=Europe/Berlin:20250701T080000
DTEND;TZID=Europe/Berlin:20250701T130000
DTSTAMP:20260421T103542
CREATED:20241201T212622Z
LAST-MODIFIED:20250312T192535Z
UID:9182-1751356800-1751374800@siemensschule-gransee.de
SUMMARY:Sportfest - JGS7-10
DESCRIPTION:
URL:https://siemensschule-gransee.de/termin/spiel-und-sportfest-der-abschlussklassen/
LOCATION:Dreifelder-Sporthalle Gransee\, Oranienburger Str. 36\, Gransee\, 16775
ORGANIZER;CN="Herr Brand%2C SL":MAILTO:jan.brand@lk.brandenburg.de
END:VEVENT
BEGIN:VEVENT
DTSTART;TZID=Europe/Berlin:20250701T113000
DTEND;TZID=Europe/Berlin:20250701T153000
DTSTAMP:20260421T103542
CREATED:20250312T200341Z
LAST-MODIFIED:20250312T200341Z
UID:9650-1751369400-1751383800@siemensschule-gransee.de
SUMMARY:Schulschwimmen 7C
DESCRIPTION:
URL:https://siemensschule-gransee.de/termin/schulschwimmen-7c-5/
END:VEVENT
END:VCALENDAR