BEGIN:VCALENDAR
VERSION:2.0
PRODID:-//Werner-von-Siemens-Schule - ECPv6.15.20//NONSGML v1.0//EN
CALSCALE:GREGORIAN
METHOD:PUBLISH
X-WR-CALNAME:Werner-von-Siemens-Schule
X-ORIGINAL-URL:https://siemensschule-gransee.de
X-WR-CALDESC:Veranstaltungen für Werner-von-Siemens-Schule
REFRESH-INTERVAL;VALUE=DURATION:PT1H
X-Robots-Tag:noindex
X-PUBLISHED-TTL:PT1H
BEGIN:VTIMEZONE
TZID:Europe/Berlin
BEGIN:DAYLIGHT
TZOFFSETFROM:+0100
TZOFFSETTO:+0200
TZNAME:CEST
DTSTART:20240331T010000
END:DAYLIGHT
BEGIN:STANDARD
TZOFFSETFROM:+0200
TZOFFSETTO:+0100
TZNAME:CET
DTSTART:20241027T010000
END:STANDARD
BEGIN:DAYLIGHT
TZOFFSETFROM:+0100
TZOFFSETTO:+0200
TZNAME:CEST
DTSTART:20250330T010000
END:DAYLIGHT
BEGIN:STANDARD
TZOFFSETFROM:+0200
TZOFFSETTO:+0100
TZNAME:CET
DTSTART:20251026T010000
END:STANDARD
BEGIN:DAYLIGHT
TZOFFSETFROM:+0100
TZOFFSETTO:+0200
TZNAME:CEST
DTSTART:20260329T010000
END:DAYLIGHT
BEGIN:STANDARD
TZOFFSETFROM:+0200
TZOFFSETTO:+0100
TZNAME:CET
DTSTART:20261025T010000
END:STANDARD
END:VTIMEZONE
BEGIN:VEVENT
DTSTART;VALUE=DATE:20250407
DTEND;VALUE=DATE:20250412
DTSTAMP:20260419T144741
CREATED:20250312T190609Z
LAST-MODIFIED:20250312T190609Z
UID:9597-1743984000-1744415999@siemensschule-gransee.de
SUMMARY:Praktikum JGS8
DESCRIPTION:
URL:https://siemensschule-gransee.de/termin/praktikum-jgs8/
END:VEVENT
BEGIN:VEVENT
DTSTART;TZID=Europe/Berlin:20250407T133000
DTEND;TZID=Europe/Berlin:20250407T153000
DTSTAMP:20260419T144741
CREATED:20241201T210931Z
LAST-MODIFIED:20250312T185610Z
UID:9143-1744032600-1744039800@siemensschule-gransee.de
SUMMARY:8. Lehrerkonferenz
DESCRIPTION:
URL:https://siemensschule-gransee.de/termin/7-lehrerkonferenz/
LOCATION:Werner-von-Siemens-Oberschule\, Straße des Friedens 4\, Gransee\, 16775
ORGANIZER;CN="Herr Brand%2C SL":MAILTO:jan.brand@lk.brandenburg.de
END:VEVENT
BEGIN:VEVENT
DTSTART;TZID=Europe/Berlin:20250407T160000
DTEND;TZID=Europe/Berlin:20250407T170000
DTSTAMP:20260419T144741
CREATED:20250312T190959Z
LAST-MODIFIED:20250312T190959Z
UID:9600-1744041600-1744045200@siemensschule-gransee.de
SUMMARY:Treffen des Fördervereins
DESCRIPTION:
URL:https://siemensschule-gransee.de/termin/treffen-des-foerdervereins/
LOCATION:Werner-von-Siemens-Oberschule\, Straße des Friedens 4\, Gransee\, 16775
END:VEVENT
BEGIN:VEVENT
DTSTART;TZID=Europe/Berlin:20250407T180000
DTEND;TZID=Europe/Berlin:20250407T190000
DTSTAMP:20260419T144741
CREATED:20241201T211019Z
LAST-MODIFIED:20250312T190926Z
UID:9145-1744048800-1744052400@siemensschule-gransee.de
SUMMARY:3. Schulkonferenz
DESCRIPTION:
URL:https://siemensschule-gransee.de/termin/3-schulkonferenz/
LOCATION:Werner-von-Siemens-Oberschule\, Straße des Friedens 4\, Gransee\, 16775
ORGANIZER;CN="Herr Brand%2C SL":MAILTO:jan.brand@lk.brandenburg.de
END:VEVENT
END:VCALENDAR