BEGIN:VCALENDAR
VERSION:2.0
PRODID:-//Werner-von-Siemens-Schule - ECPv6.15.20//NONSGML v1.0//EN
CALSCALE:GREGORIAN
METHOD:PUBLISH
X-ORIGINAL-URL:https://siemensschule-gransee.de
X-WR-CALDESC:Veranstaltungen für Werner-von-Siemens-Schule
REFRESH-INTERVAL;VALUE=DURATION:PT1H
X-Robots-Tag:noindex
X-PUBLISHED-TTL:PT1H
BEGIN:VTIMEZONE
TZID:Europe/Berlin
BEGIN:DAYLIGHT
TZOFFSETFROM:+0100
TZOFFSETTO:+0200
TZNAME:CEST
DTSTART:20240331T010000
END:DAYLIGHT
BEGIN:STANDARD
TZOFFSETFROM:+0200
TZOFFSETTO:+0100
TZNAME:CET
DTSTART:20241027T010000
END:STANDARD
BEGIN:DAYLIGHT
TZOFFSETFROM:+0100
TZOFFSETTO:+0200
TZNAME:CEST
DTSTART:20250330T010000
END:DAYLIGHT
BEGIN:STANDARD
TZOFFSETFROM:+0200
TZOFFSETTO:+0100
TZNAME:CET
DTSTART:20251026T010000
END:STANDARD
BEGIN:DAYLIGHT
TZOFFSETFROM:+0100
TZOFFSETTO:+0200
TZNAME:CEST
DTSTART:20260329T010000
END:DAYLIGHT
BEGIN:STANDARD
TZOFFSETFROM:+0200
TZOFFSETTO:+0100
TZNAME:CET
DTSTART:20261025T010000
END:STANDARD
END:VTIMEZONE
BEGIN:VEVENT
DTSTART;TZID=Europe/Berlin:20250110T093000
DTEND;TZID=Europe/Berlin:20250110T130000
DTSTAMP:20260421T131433
CREATED:20241201T205359Z
LAST-MODIFIED:20241201T205359Z
UID:9108-1736501400-1736514000@siemensschule-gransee.de
SUMMARY:Projekttag - Berwerbungen schreiben 9C
DESCRIPTION:
URL:https://siemensschule-gransee.de/termin/projekttag-berwerbungen-schreiben-9c/
LOCATION:Werner-von-Siemens-Oberschule\, Straße des Friedens 4\, Gransee\, 16775
ORGANIZER;CN="Frau Mie%C3%9Fner":MAILTO:kathleen.miessner@lk.brandenburg.de
END:VEVENT
END:VCALENDAR